BEGIN:VCALENDAR
VERSION:2.0
PRODID:-//book-ish.co.uk - ECPv6.15.20//NONSGML v1.0//EN
CALSCALE:GREGORIAN
METHOD:PUBLISH
X-ORIGINAL-URL:https://www.book-ish.co.uk
X-WR-CALDESC:Events for book-ish.co.uk
REFRESH-INTERVAL;VALUE=DURATION:PT1H
X-Robots-Tag:noindex
X-PUBLISHED-TTL:PT1H
BEGIN:VTIMEZONE
TZID:Europe/London
BEGIN:DAYLIGHT
TZOFFSETFROM:+0000
TZOFFSETTO:+0100
TZNAME:BST
DTSTART:20250330T010000
END:DAYLIGHT
BEGIN:STANDARD
TZOFFSETFROM:+0100
TZOFFSETTO:+0000
TZNAME:GMT
DTSTART:20251026T010000
END:STANDARD
BEGIN:DAYLIGHT
TZOFFSETFROM:+0000
TZOFFSETTO:+0100
TZNAME:BST
DTSTART:20260329T010000
END:DAYLIGHT
BEGIN:STANDARD
TZOFFSETFROM:+0100
TZOFFSETTO:+0000
TZNAME:GMT
DTSTART:20261025T010000
END:STANDARD
BEGIN:DAYLIGHT
TZOFFSETFROM:+0000
TZOFFSETTO:+0100
TZNAME:BST
DTSTART:20270328T010000
END:DAYLIGHT
BEGIN:STANDARD
TZOFFSETFROM:+0100
TZOFFSETTO:+0000
TZNAME:GMT
DTSTART:20271031T010000
END:STANDARD
END:VTIMEZONE
BEGIN:VEVENT
DTSTART;TZID=Europe/London:20260609T190000
DTEND;TZID=Europe/London:20260609T210000
DTSTAMP:20260423T080106
CREATED:20260412T142010Z
LAST-MODIFIED:20260412T142141Z
UID:10000500-1781031600-1781038800@www.book-ish.co.uk
SUMMARY:Book-ish Writing Group - June
DESCRIPTION:A monthly meeting in Book-ish for writers of all levels to write\, develop\, and share their work in an informal and supportive setting. \nMembers will write something new in every session and should feel free to bring their own writing to share with the group. \nWe usually meet on the second Tuesday of each month. \nAny questions at all\, please email hannah@book-ish.co.uk
URL:https://www.book-ish.co.uk/event/book-ish-writing-group-june/
LOCATION:Book-ish Crickhowell\, 18 High Street\, Crickhowell\, NP8 1BD\, Crickhowell\, NP8 1BD
CATEGORIES:Writing Group
ATTACH;FMTTYPE=image/png:https://www.book-ish.co.uk/wp-content/uploads/2022/03/Writing-Group-Twitter-Post.png
END:VEVENT
BEGIN:VEVENT
DTSTART;TZID=Europe/London:20260714T190000
DTEND;TZID=Europe/London:20260714T210000
DTSTAMP:20260423T080106
CREATED:20260412T142722Z
LAST-MODIFIED:20260412T142722Z
UID:10000501-1784055600-1784062800@www.book-ish.co.uk
SUMMARY:Book-ish Writing Group - July
DESCRIPTION:A monthly meeting in Book-ish for writers of all levels to write\, develop\, and share their work in an informal and supportive setting. \nMembers will write something new in every session and should feel free to bring their own writing to share with the group. \nWe usually meet on the second Tuesday of each month. \nAny questions at all\, please email hannah@book-ish.co.uk
URL:https://www.book-ish.co.uk/event/book-ish-writing-group-july/
LOCATION:Book-ish Crickhowell\, 18 High Street\, Crickhowell\, NP8 1BD\, Crickhowell\, NP8 1BD
CATEGORIES:Writing Group
ATTACH;FMTTYPE=image/png:https://www.book-ish.co.uk/wp-content/uploads/2022/03/Writing-Group-Twitter-Post.png
END:VEVENT
END:VCALENDAR