BEGIN:VCALENDAR
VERSION:2.0
PRODID:-//book-ish.co.uk - ECPv6.15.20//NONSGML v1.0//EN
CALSCALE:GREGORIAN
METHOD:PUBLISH
X-ORIGINAL-URL:https://www.book-ish.co.uk
X-WR-CALDESC:Events for book-ish.co.uk
REFRESH-INTERVAL;VALUE=DURATION:PT1H
X-Robots-Tag:noindex
X-PUBLISHED-TTL:PT1H
BEGIN:VTIMEZONE
TZID:Europe/London
BEGIN:DAYLIGHT
TZOFFSETFROM:+0000
TZOFFSETTO:+0100
TZNAME:BST
DTSTART:20240331T010000
END:DAYLIGHT
BEGIN:STANDARD
TZOFFSETFROM:+0100
TZOFFSETTO:+0000
TZNAME:GMT
DTSTART:20241027T010000
END:STANDARD
BEGIN:DAYLIGHT
TZOFFSETFROM:+0000
TZOFFSETTO:+0100
TZNAME:BST
DTSTART:20250330T010000
END:DAYLIGHT
BEGIN:STANDARD
TZOFFSETFROM:+0100
TZOFFSETTO:+0000
TZNAME:GMT
DTSTART:20251026T010000
END:STANDARD
BEGIN:DAYLIGHT
TZOFFSETFROM:+0000
TZOFFSETTO:+0100
TZNAME:BST
DTSTART:20260329T010000
END:DAYLIGHT
BEGIN:STANDARD
TZOFFSETFROM:+0100
TZOFFSETTO:+0000
TZNAME:GMT
DTSTART:20261025T010000
END:STANDARD
BEGIN:DAYLIGHT
TZOFFSETFROM:+0000
TZOFFSETTO:+0100
TZNAME:BST
DTSTART:20270328T010000
END:DAYLIGHT
BEGIN:STANDARD
TZOFFSETFROM:+0100
TZOFFSETTO:+0000
TZNAME:GMT
DTSTART:20271031T010000
END:STANDARD
END:VTIMEZONE
BEGIN:VEVENT
DTSTART;TZID=Europe/London:20260310T190000
DTEND;TZID=Europe/London:20260310T210000
DTSTAMP:20260423T013555
CREATED:20260116T112155Z
LAST-MODIFIED:20260310T090821Z
UID:10000461-1773169200-1773176400@www.book-ish.co.uk
SUMMARY:Book-ish Writing Group
DESCRIPTION:A monthly meeting in Book-ish for writers of all levels to write\, develop\, and share their work in an informal and supportive setting. \nMembers will write something new in every session and should feel free to bring their own writing to share with the group. \nWe usually meet on the second Tuesday of each month. \nAny questions at all\, please email hannah@book-ish.co.uk
URL:https://www.book-ish.co.uk/event/book-ish-writing-group-3/
LOCATION:Book-ish Crickhowell\, 18 High Street\, Crickhowell\, NP8 1BD\, Crickhowell\, NP8 1BD
CATEGORIES:Writing Group
ATTACH;FMTTYPE=image/png:https://www.book-ish.co.uk/wp-content/uploads/2022/03/Writing-Group-Twitter-Post.png
END:VEVENT
BEGIN:VEVENT
DTSTART;TZID=Europe/London:20260210T190000
DTEND;TZID=Europe/London:20260210T210000
DTSTAMP:20260423T013555
CREATED:20251115T104021Z
LAST-MODIFIED:20260116T163311Z
UID:10000449-1770750000-1770757200@www.book-ish.co.uk
SUMMARY:Book-ish Writing Group
DESCRIPTION:A monthly meeting in Book-ish for writers of all levels to write\, develop\, and share their work in an informal and supportive setting. \nMembers will write something new in every session and should feel free to bring their own writing to share with the group. \nWe usually meet on the second Tuesday of each month. \nAny questions at all\, please email hannah@book-ish.co.uk
URL:https://www.book-ish.co.uk/event/book-ish-writing-group-2/
LOCATION:Book-ish Crickhowell\, 18 High Street\, Crickhowell\, NP8 1BD\, Crickhowell\, NP8 1BD
CATEGORIES:Writing Group
ATTACH;FMTTYPE=image/png:https://www.book-ish.co.uk/wp-content/uploads/2022/03/Writing-Group-Twitter-Post.png
END:VEVENT
BEGIN:VEVENT
DTSTART;TZID=Europe/London:20260113T190000
DTEND;TZID=Europe/London:20260113T210000
DTSTAMP:20260423T013555
CREATED:20251031T162039Z
LAST-MODIFIED:20251115T101726Z
UID:10000448-1768330800-1768338000@www.book-ish.co.uk
SUMMARY:Book-ish Writing Group
DESCRIPTION:January’s writing group will be a special session with the Black Mountains Comedy Festival! Something a bit different – exploring comedy writing and performance. \nPlease book your place here >>> https://bmfestivals.com/tickets/stand-up-for-comedy/ \nAny questions at all\, please email hannah@book-ish.co.uk
URL:https://www.book-ish.co.uk/event/book-ish-writing-group/
LOCATION:Book-ish Crickhowell\, 18 High Street\, Crickhowell\, NP8 1BD\, Crickhowell\, NP8 1BD
CATEGORIES:Writing Group
ATTACH;FMTTYPE=image/png:https://www.book-ish.co.uk/wp-content/uploads/2022/03/Writing-Group-Twitter-Post.png
END:VEVENT
BEGIN:VEVENT
DTSTART;TZID=Europe/London:20251209T190000
DTEND;TZID=Europe/London:20251209T210000
DTSTAMP:20260423T013555
CREATED:20250902T184927Z
LAST-MODIFIED:20250902T184927Z
UID:10000439-1765306800-1765314000@www.book-ish.co.uk
SUMMARY:Bookish Writing Group
DESCRIPTION:A monthly meeting in Book-ish for writers of all levels to write\, develop\, and share their work in an informal and supportive setting. \nMembers will write something new in every session and should feel free to bring their own writing to share with the group. \nWe usually meet on the second Tuesday of each month. \nAny questions at all\, please email hannah@book-ish.co.uk \nMake sure to join our writers Facebook group too: https://www.facebook.com/groups/1481232449327084/
URL:https://www.book-ish.co.uk/event/bookish-writing-group-4/
LOCATION:Book-ish Crickhowell\, 18 High Street\, Crickhowell\, NP8 1BD\, Crickhowell\, NP8 1BD
CATEGORIES:Writing Group
ATTACH;FMTTYPE=image/png:https://www.book-ish.co.uk/wp-content/uploads/2022/03/Writing-Group-Twitter-Post.png
END:VEVENT
BEGIN:VEVENT
DTSTART;TZID=Europe/London:20251118T190000
DTEND;TZID=Europe/London:20251118T210000
DTSTAMP:20260423T013555
CREATED:20250902T094903Z
LAST-MODIFIED:20250905T103148Z
UID:10000437-1763492400-1763499600@www.book-ish.co.uk
SUMMARY:Bookish Writing Group
DESCRIPTION:A monthly meeting in Book-ish for writers of all levels to write\, develop\, and share their work in an informal and supportive setting. \nMembers will write something new in every session and should feel free to bring their own writing to share with the group. \nWe usually meet on the second Tuesday of each month. \nAny questions at all\, please email hannah@book-ish.co.uk \nMake sure to join our writers Facebook group too: https://www.facebook.com/groups/1481232449327084/
URL:https://www.book-ish.co.uk/event/bookish-writing-group-2/
LOCATION:Book-ish Crickhowell\, 18 High Street\, Crickhowell\, NP8 1BD\, Crickhowell\, NP8 1BD
CATEGORIES:Writing Group
ATTACH;FMTTYPE=image/png:https://www.book-ish.co.uk/wp-content/uploads/2022/03/Writing-Group-Twitter-Post.png
END:VEVENT
BEGIN:VEVENT
DTSTART;TZID=Europe/London:20251014T190000
DTEND;TZID=Europe/London:20251014T210000
DTSTAMP:20260423T013555
CREATED:20250902T094614Z
LAST-MODIFIED:20250905T102846Z
UID:10000436-1760468400-1760475600@www.book-ish.co.uk
SUMMARY:Bookish Writing Group
DESCRIPTION:A monthly meeting in Book-ish for writers of all levels to write\, develop\, and share their work in an informal and supportive setting. \nMembers will write something new in every session and should feel free to bring their own writing to share with the group. \nWe usually meet on the second Tuesday of each month. \nAny questions at all\, please email hannah@book-ish.co.uk \nMake sure to join our writers Facebook group too: https://www.facebook.com/groups/1481232449327084/
URL:https://www.book-ish.co.uk/event/bookish-writing-group/
LOCATION:Book-ish Crickhowell\, 18 High Street\, Crickhowell\, NP8 1BD\, Crickhowell\, NP8 1BD
CATEGORIES:Writing Group
ATTACH;FMTTYPE=image/png:https://www.book-ish.co.uk/wp-content/uploads/2022/03/Writing-Group-Twitter-Post.png
END:VEVENT
BEGIN:VEVENT
DTSTART;TZID=Europe/London:20250708T190000
DTEND;TZID=Europe/London:20250708T210000
DTSTAMP:20260423T013555
CREATED:20250419T142859Z
LAST-MODIFIED:20250610T082149Z
UID:10000376-1752001200-1752008400@www.book-ish.co.uk
SUMMARY:Writing Group - July
DESCRIPTION:A monthly meeting in Book-ish for writers of all levels to write\, develop\, and share their work in an informal and supportive setting. \nMembers will write something new in every session and should feel free to bring their own writing to share with the group. \nWe usually meet on the second Tuesday of each month. \nAny questions at all\, please email hannah@book-ish.co.uk \nMake sure to join our writers Facebook group too: https://www.facebook.com/groups/1481232449327084/
URL:https://www.book-ish.co.uk/event/writing-group-june/
LOCATION:Book-ish Crickhowell\, 18 High Street\, Crickhowell\, NP8 1BD\, Crickhowell\, NP8 1BD
CATEGORIES:Writing Group
ATTACH;FMTTYPE=image/png:https://www.book-ish.co.uk/wp-content/uploads/2022/03/Writing-Group-Twitter-Post.png
END:VEVENT
BEGIN:VEVENT
DTSTART;TZID=Europe/London:20250513T190000
DTEND;TZID=Europe/London:20250513T210000
DTSTAMP:20260423T013555
CREATED:20250419T135727Z
LAST-MODIFIED:20250419T141551Z
UID:10000375-1747162800-1747170000@www.book-ish.co.uk
SUMMARY:Writing Group - May
DESCRIPTION:A monthly meeting in Book-ish for writers of all levels to write\, develop\, and share their work in an informal and supportive setting. \nMembers will write something new in every session and should feel free to bring their own writing to share with the group. \nWe usually meet on the second Tuesday of each month. \nAny questions at all\, please email hannah@book-ish.co.uk \nMake sure to join our writers Facebook group too: https://www.facebook.com/groups/1481232449327084/
URL:https://www.book-ish.co.uk/event/writing-group-may/
LOCATION:Book-ish Crickhowell\, 18 High Street\, Crickhowell\, NP8 1BD\, Crickhowell\, NP8 1BD
CATEGORIES:Writing Group
ATTACH;FMTTYPE=image/png:https://www.book-ish.co.uk/wp-content/uploads/2022/03/Writing-Group-Twitter-Post.png
END:VEVENT
BEGIN:VEVENT
DTSTART;TZID=Europe/London:20250422T190000
DTEND;TZID=Europe/London:20250422T210000
DTSTAMP:20260423T013555
CREATED:20250207T095310Z
LAST-MODIFIED:20250321T162746Z
UID:10000356-1745348400-1745355600@www.book-ish.co.uk
SUMMARY:Writing Group - April
DESCRIPTION:A monthly meeting in Book-ish for writers of all levels to write\, develop\, and share their work in an informal and supportive setting. \nMembers will write something new in every session and should feel free to bring their own writing to share with the group. \nWe usually meet on the second Tuesday of each month – April’s meeting is two weeks later due to other commitments. \nAny questions at all\, please email hannah@book-ish.co.uk \nMake sure to join our writers Facebook group too: https://www.facebook.com/groups/1481232449327084/
URL:https://www.book-ish.co.uk/event/writing-group-april/
LOCATION:Book-ish Crickhowell\, 18 High Street\, Crickhowell\, NP8 1BD\, Crickhowell\, NP8 1BD
CATEGORIES:Writing Group
ATTACH;FMTTYPE=image/png:https://www.book-ish.co.uk/wp-content/uploads/2022/03/Writing-Group-Twitter-Post.png
END:VEVENT
END:VCALENDAR